BEGIN:VCALENDAR
VERSION:2.0
PRODID:-//Dowerin District High School - ECPv6.15.13//NONSGML v1.0//EN
CALSCALE:GREGORIAN
METHOD:PUBLISH
X-ORIGINAL-URL:https://dowerindhs.wa.edu.au
X-WR-CALDESC:Events for Dowerin District High School
REFRESH-INTERVAL;VALUE=DURATION:PT1H
X-Robots-Tag:noindex
X-PUBLISHED-TTL:PT1H
BEGIN:VTIMEZONE
TZID:Australia/Perth
BEGIN:STANDARD
TZOFFSETFROM:+0800
TZOFFSETTO:+0800
TZNAME:AWST
DTSTART:20240101T000000
END:STANDARD
END:VTIMEZONE
BEGIN:VEVENT
DTSTART;VALUE=DATE:20250926
DTEND;VALUE=DATE:20250927
DTSTAMP:20260417T204813
CREATED:20250815T144219Z
LAST-MODIFIED:20250815T144219Z
UID:1321-1758844800-1758931199@dowerindhs.wa.edu.au
SUMMARY:End of Term 3
DESCRIPTION:
URL:https://dowerindhs.wa.edu.au/event/end-of-term-3/
CATEGORIES:Term Dates
END:VEVENT
END:VCALENDAR