BEGIN:VCALENDAR
VERSION:2.0
PRODID:-//Dowerin District High School - ECPv6.15.13//NONSGML v1.0//EN
CALSCALE:GREGORIAN
METHOD:PUBLISH
X-ORIGINAL-URL:https://dowerindhs.wa.edu.au
X-WR-CALDESC:Events for Dowerin District High School
REFRESH-INTERVAL;VALUE=DURATION:PT1H
X-Robots-Tag:noindex
X-PUBLISHED-TTL:PT1H
BEGIN:VTIMEZONE
TZID:Australia/Perth
BEGIN:STANDARD
TZOFFSETFROM:+0800
TZOFFSETTO:+0800
TZNAME:AWST
DTSTART:20240101T000000
END:STANDARD
END:VTIMEZONE
BEGIN:VEVENT
DTSTART;VALUE=DATE:20250905
DTEND;VALUE=DATE:20250906
DTSTAMP:20260420T001259
CREATED:20250815T140640Z
LAST-MODIFIED:20250815T142550Z
UID:1298-1757030400-1757116799@dowerindhs.wa.edu.au
SUMMARY:Cunderdin Ag College Open Day
DESCRIPTION:
URL:https://dowerindhs.wa.edu.au/event/cunderdin-ag-college-open-day/
CATEGORIES:Secondary
END:VEVENT
BEGIN:VEVENT
DTSTART;TZID=Australia/Perth:20250915T133000
DTEND;TZID=Australia/Perth:20250915T150000
DTSTAMP:20260420T001259
CREATED:20250815T141341Z
LAST-MODIFIED:20250815T145919Z
UID:1309-1757943000-1757948400@dowerindhs.wa.edu.au
SUMMARY:One Life\, One Choice - Parent Session
DESCRIPTION:We are pleased to invite you to a special Parent Information Session with Rodney Bridge\, the author of One Life\, One Choice. Rodney’s powerful story shares the real-life consequences of drug use and the importance of making informed\, positive choices. \nThis session is an opportunity for parents and caregivers to hear Rodney’s personal journey and gain insights into how we can support young people in making safe and healthy decisions. \n🗓 Date: Monday\, 15th September \n🕜 Time: 1:30pm – 3:00pm \n📍 Location: School Library \n☕ Light refreshments will be provided \n🧸 ‘Creche’ available \nWe encourage all parents and caregivers to attend this valuable session. Your presence and involvement make a difference in supporting our students’ wellbeing and decision- making. \nTo RSVP\, please contact Kylie Avery at the school on 9631 4400 or Kylie.Fowler@education.wa.edu.au
URL:https://dowerindhs.wa.edu.au/event/one-life-one-choice/
LOCATION:School Library
CATEGORIES:Secondary
END:VEVENT
END:VCALENDAR