BEGIN:VCALENDAR
VERSION:2.0
PRODID:-//Dowerin District High School - ECPv6.15.13//NONSGML v1.0//EN
CALSCALE:GREGORIAN
METHOD:PUBLISH
X-ORIGINAL-URL:https://dowerindhs.wa.edu.au
X-WR-CALDESC:Events for Dowerin District High School
REFRESH-INTERVAL;VALUE=DURATION:PT1H
X-Robots-Tag:noindex
X-PUBLISHED-TTL:PT1H
BEGIN:VTIMEZONE
TZID:Australia/Perth
BEGIN:STANDARD
TZOFFSETFROM:+0800
TZOFFSETTO:+0800
TZNAME:AWST
DTSTART:20240101T000000
END:STANDARD
END:VTIMEZONE
BEGIN:VEVENT
DTSTART;VALUE=DATE:20250606
DTEND;VALUE=DATE:20250607
DTSTAMP:20260423T063427
CREATED:20250517T083704Z
LAST-MODIFIED:20250517T085222Z
UID:369-1749168000-1749254399@dowerindhs.wa.edu.au
SUMMARY:Primary Winter Carnival - Quairading
DESCRIPTION:
URL:https://dowerindhs.wa.edu.au/event/primary-winter-carnival-quairading/
CATEGORIES:Primary
END:VEVENT
BEGIN:VEVENT
DTSTART;VALUE=DATE:20250606
DTEND;VALUE=DATE:20250607
DTSTAMP:20260423T063427
CREATED:20250517T084652Z
LAST-MODIFIED:20250517T084652Z
UID:408-1749168000-1749254399@dowerindhs.wa.edu.au
SUMMARY:Primary Winter Carnival
DESCRIPTION:
URL:https://dowerindhs.wa.edu.au/event/primary-winter-carnival/
CATEGORIES:Primary
END:VEVENT
END:VCALENDAR