BEGIN:VCALENDAR
VERSION:2.0
PRODID:-//Dowerin District High School - ECPv6.15.13//NONSGML v1.0//EN
CALSCALE:GREGORIAN
METHOD:PUBLISH
X-ORIGINAL-URL:https://dowerindhs.wa.edu.au
X-WR-CALDESC:Events for Dowerin District High School
REFRESH-INTERVAL;VALUE=DURATION:PT1H
X-Robots-Tag:noindex
X-PUBLISHED-TTL:PT1H
BEGIN:VTIMEZONE
TZID:Australia/Perth
BEGIN:STANDARD
TZOFFSETFROM:+0800
TZOFFSETTO:+0800
TZNAME:AWST
DTSTART:20240101T000000
END:STANDARD
END:VTIMEZONE
BEGIN:VEVENT
DTSTART;TZID=Australia/Perth:20251127T090000
DTEND;TZID=Australia/Perth:20251127T150000
DTSTAMP:20260422T212226
CREATED:20251120T063734Z
LAST-MODIFIED:20251120T063734Z
UID:1454-1764234000-1764255600@dowerindhs.wa.edu.au
SUMMARY:Yr 5/6 ILN Maths Day
DESCRIPTION:
URL:https://dowerindhs.wa.edu.au/event/yr-5-6-iln-maths-day/
CATEGORIES:Primary
ORGANIZER;CN="Kate Petchell":MAILTO:PETCHELL Kathryn [Dowerin District High School]
END:VEVENT
END:VCALENDAR